Workbook
Name CYK: Admin!$A$2:$B$7
Name Progress: Admin!$F$2:$F$5
Name YesNo: Admin!$D$2:$D$3
Name YNS: Admin!$D$2:$D$4

Sheet Self Assessment
A1: MANAGER AND SUPPORTER WOODBADGE
F3: In your role… | G3: Answer | H3: Roles
A4: TA(M&S) Name | F4: Everyone | G4: Yes | H4: ALL
F5: Do you line manage anyone? | G5: Yes | H5: =IF(G5="Yes",I5,"") -> Line M | I5: Line M
A6: Name | F6: Do you have responsibility for young people? | G6: Yes | H6: =IF(G6="Yes",I6,"") -> YP | I6: YP
F7: Are you a Trustee? | G7: Yes | H7: =IF(G7="Yes",I7,"") -> Trustee | I7: Trustee
A8: Role | B8: Title | F8: Do you approve or support activities? | G8: Yes | H8: =IF(G8="Yes",I8,"") -> Activity | I8: Activity
B9: Start Date
A12: Area | B12: Covers | D12: Do I know… | E12: Score | F12: Learning Suggestion | H12: Roles | I12: Re-Val | J12: Notes
A13: Managing Your Time and Personal Skills | B13: Being aware of your own skills and knowledge, identifying areas for development and having a plan to improve or develop in these areas | D13: What my role entails and what my goals and targets are? | E13: 0 | F13: =VLOOKUP(E13,CYK,2,TRUE) -> Rate Yourself (1 = None to 5 = Full Knowledge) | H13: ALL | I13: Yes
D14: What The Scout Association’s strategic vision is? | E14: 0 | F14: =VLOOKUP(E14,CYK,2,TRUE) -> Rate Yourself (1 = None to 5 = Full Knowledge) | H14: ALL | I14: Yes
D15: What the future requirements of my role are? | E15: 0 | F15: =VLOOKUP(E15,CYK,2,TRUE) -> Rate Yourself (1 = None to 5 = Full Knowledge) | H15: ALL | I15: Yes
D16: What skills and knowledge I need to develop are? | E16: 0 | F16: =VLOOKUP(E16,CYK,2,TRUE) -> Rate Yourself (1 = None to 5 = Full Knowledge) | H16: ALL | I16: Yes
D17: How to manage time effectively? – particularly in relation to keeping a balance across work, life and Scouting | E17: 0 | F17: =VLOOKUP(E17,CYK,2,TRUE) -> Rate Yourself (1 = None to 5 = Full Knowledge) | H17: ALL | I17: Yes
D18: How to use feedback from others to help me improve the way I carry out my role? | E18: 0 | F18: =VLOOKUP(E18,CYK,2,TRUE) -> Rate Yourself (1 = None to 5 = Full Knowledge) | H18: ALL | I18: Yes
D19: Where to go for up to date information of developments in Scouting? | E19: 0 | F19: =VLOOKUP(E19,CYK,2,TRUE) -> Rate Yourself (1 = None to 5 = Full Knowledge) | H19: ALL | I19: Yes
A20: Providing Direction | D20: How to create a vision? | E20: 0 | F20: =VLOOKUP(E20,CYK,2,TRUE) -> Rate Yourself (1 = None to 5 = Full Knowledge) | H20: ALL | I20: Yes
D21: How to create a plan to deliver a vision? | E21: 0 | F21: =VLOOKUP(E21,CYK,2,TRUE) -> Rate Yourself (1 = None to 5 = Full Knowledge) | H21: ALL | I21: Yes
B22: Your role as a leader in Scouting and the qualities of an effective leader | D22: What SMART targets are and how to set them? | E22: 0 | F22: =VLOOKUP(E22,CYK,2,TRUE) -> Rate Yourself (1 = None to 5 = Full Knowledge) | H22: ALL | I22: Yes
B23: Practically applying the current strategic Vision for UK Scouting to the development of local Scouting | D23: Who needs consulting before setting a plan? | E23: 0 | F23: =VLOOKUP(E23,CYK,2,TRUE) -> Rate Yourself (1 = None to 5 = Full Knowledge) | H23: ALL | I23: Yes
D24: How to communicate a plan effectively? | E24: 0 | F24: =VLOOKUP(E24,CYK,2,TRUE) -> Rate Yourself (1 = None to 5 = Full Knowledge) | H24: ALL | I24: Yes
B25: Having a vision for local Scouting, which takes into account relevant development plans, including the current strategic Vision for UK Scouting | D25: How to evaluate a plan? | E25: 0 | F25: =VLOOKUP(E25,CYK,2,TRUE) -> Rate Yourself (1 = None to 5 = Full Knowledge) | H25: ALL | I25: Yes
D26: How to motivate and inspire adult volunteers? | E26: 0 | F26: =VLOOKUP(E26,CYK,2,TRUE) -> Rate Yourself (1 = None to 5 = Full Knowledge) | H26: ALL | I26: Yes
B27: Communicating your vision, and outlining a range of ways of to this | D27: Where to locate the policies and rules of The Scout Association? | E27: 0 | F27: =VLOOKUP(E27,CYK,2,TRUE) -> Rate Yourself (1 = None to 5 = Full Knowledge) | H27: ALL | I27: Yes
D28: How to ensure everyone follows the policies and rules of The Scout Association? | E28: 0 | F28: =VLOOKUP(E28,CYK,2,TRUE) -> Rate Yourself (1 = None to 5 = Full Knowledge) | H28: ALL | I28: Yes
D29: How to grow the number of young people participating in Scouting? | E29: 0 | F29: =VLOOKUP(E29,CYK,2,TRUE) -> Rate Yourself (1 = None to 5 = Full Knowledge) | H29: ALL | I29: Yes
A30: Achieving Results | B30: Growth within Scouting and your role in achieving it | D30: How to improve the performance of all elements of local Scouting? | E30: 0 | F30: =VLOOKUP(E30,CYK,2,TRUE) -> Rate Yourself (1 = None to 5 = Full Knowledge) | H30: ALL | I30: Yes
B31: Development planning to achieve growth and the process of creating one | D31: How to write, manage the implementation of, and judge the effectiveness of project and/or development plans? | E31: 0 | F31: =VLOOKUP(E31,CYK,2,TRUE) -> Rate Yourself (1 = None to 5 = Full Knowledge) | H31: ALL | I31: Yes
B32: Regularly reviewing your development plan | D32: The key communication channels to use to effectively promote local Scouting? | E32: 0 | F32: =VLOOKUP(E32,CYK,2,TRUE) -> Rate Yourself (1 = None to 5 = Full Knowledge) | H32: ALL | I32: Yes
B33: Quality management and benchmarking play when planning for quality growth | D33: My role in ensuring all the initiatives in local Scouting are managed appropriately? | E33: 0 | F33: =VLOOKUP(E33,CYK,2,TRUE) -> Rate Yourself (1 = None to 5 = Full Knowledge) | H33: Line M | I33: Yes
B34: The importance of satisfactorily resolving problems and issues raised by adult members, youth members and parents or carers of youth members with regard to past or ongoing projects | D34: How to build a profile of the young people in the local area? | E34: 0 | F34: =VLOOKUP(E34,CYK,2,TRUE) -> Rate Yourself (1 = None to 5 = Full Knowledge) | H34: YP | I34: No
D35: How to use a young people profile to effectively promote Scouting? | E35: 0 | F35: =VLOOKUP(E35,CYK,2,TRUE) -> Rate Yourself (1 = None to 5 = Full Knowledge) | H35: YP | I35: No
D36: How to monitor and review the progress people are making against their targets and development plans? | E36: 0 | F36: =VLOOKUP(E36,CYK,2,TRUE) -> Rate Yourself (1 = None to 5 = Full Knowledge) | H36: ALL | I36: Yes
B37: Effectively managing projects and the implementation of plans in Scouting
A38: Working With People | B38: Your preferred leadership style and how this impacts on how you work with others | D38: Why it is important to build relationship with external organisations? | E38: 0 | F38: =VLOOKUP(E38,CYK,2,TRUE) -> Rate Yourself (1 = None to 5 = Full Knowledge) | H38: ALL | I38: Yes
B39: Adapting your leadership style as appropriate to different situations in Scouting | D39: How to build a co-operative culture of working? | E39: 0 | F39: =VLOOKUP(E39,CYK,2,TRUE) -> Rate Yourself (1 = None to 5 = Full Knowledge) | H39: ALL | I39: Yes
D40: My preferred style of leadership and how this impacts on others I work with? | E40: 0 | F40: =VLOOKUP(E40,CYK,2,TRUE) -> Rate Yourself (1 = None to 5 = Full Knowledge) | H40: ALL | I40: Yes
B41: Effective and appropriate communication techniques to meet the needs of the intended audience | D41: The principles of active listening? | E41: 0 | F41: =VLOOKUP(E41,CYK,2,TRUE) -> Rate Yourself (1 = None to 5 = Full Knowledge) | H41: ALL | I41: Yes
D42: How to minimise the likelihood of conflict, disputes and complaints and how to handle them should they occur? | E42: 0 | F42: =VLOOKUP(E42,CYK,2,TRUE) -> Rate Yourself (1 = None to 5 = Full Knowledge) | H42: ALL | I42: Yes
B43: Building and maintaining collaborative relationships with other relevant organisations that can support local Scouting | D43: How to recruit adults into new Scouting roles? | E43: 0 | F43: =VLOOKUP(E43,CYK,2,TRUE) -> Rate Yourself (1 = None to 5 = Full Knowledge) | H43: Line M | I43: Yes
D44: How to effectively delegate tasks? | E44: 0 | F44: =VLOOKUP(E44,CYK,2,TRUE) -> Rate Yourself (1 = None to 5 = Full Knowledge) | H44: Line M | I44: Yes
B45: Effectively delegating tasks to someone for a successful outcome | D45: How to develop adult’s skills and knowledge? | E45: 0 | F45: =VLOOKUP(E45,CYK,2,TRUE) -> Rate Yourself (1 = None to 5 = Full Knowledge) | H45: Line M | I45: Yes
B46: Succession planning | D46: My role in supporting others through the Adult Training Scheme? | E46: 0 | F46: =VLOOKUP(E46,CYK,2,TRUE) -> Rate Yourself (1 = None to 5 = Full Knowledge) | H46: Line M | I46: No
B47: Adult recruitment strategies and practice | D47: My role in relation to The Scout Associations safeguarding policy? | E47: 0 | F47: =VLOOKUP(E47,CYK,2,TRUE) -> Rate Yourself (1 = None to 5 = Full Knowledge) | H47: ALL | I47: Yes
B48: Dealing with conflict | D48: How to conduct an effective review of an adult you line manage? | E48: 0 | F48: =VLOOKUP(E48,CYK,2,TRUE) -> Rate Yourself (1 = None to 5 = Full Knowledge) | H48: Line M | I48: No
B49: Safeguarding practices and procedures for your role | D49: The benefits of an effective induction? | E49: 0 | F49: =VLOOKUP(E49,CYK,2,TRUE) -> Rate Yourself (1 = None to 5 = Full Knowledge) | H49: Line M | I49: No
A50: Enabling Change | B50: Being open to and supportive of change and new ideas aimed at improving local Scouting | D50: How to support and encourage adults to think of new and creative ways to improve local Scouting? | E50: 0 | F50: =VLOOKUP(E50,CYK,2,TRUE) -> Rate Yourself (1 = None to 5 = Full Knowledge) | H50: ALL | I50: Yes
D51: How to effectively manage change? | E51: 0 | F51: =VLOOKUP(E51,CYK,2,TRUE) -> Rate Yourself (1 = None to 5 = Full Knowledge) | H51: ALL | I51: Yes
B52: Managing change effectively and situations and circumstances in which change management is required in local Scouting | D52: Why people are resistant to change and how to lead them successfully through change? | E52: 0 | F52: =VLOOKUP(E52,CYK,2,TRUE) -> Rate Yourself (1 = None to 5 = Full Knowledge) | H52: ALL | I52: Yes
A54: Using Resources | B54: · Methods of decision making and prioritisation. | D54: Which decisions I can make myself and which decisions I need to consult others before taking action? | E54: 0 | F54: =VLOOKUP(E54,CYK,2,TRUE) -> Rate Yourself (1 = None to 5 = Full Knowledge) | H54: ALL | I54: Yes
B55: · Decision making structures within local and national Scouting and how you fit into them (both in making decisions and seeking decisions to be made). | D55: How best to ensure that key knowledge is captured, stored and used to improve local Scouting? | E55: 0 | F55: =VLOOKUP(E55,CYK,2,TRUE) -> Rate Yourself (1 = None to 5 = Full Knowledge) | H55: ALL | I55: Yes
D56: How to ensure that all adults in local Scouting have the right information? | E56: 0 | F56: =VLOOKUP(E56,CYK,2,TRUE) -> Rate Yourself (1 = None to 5 = Full Knowledge) | H56: ALL | I56: Yes
B57: Ensuring sufficient physical resources and adequate income for local Scouting as part of the Executive Committee. | D57: Which resources am I responsible for? | E57: 0 | F57: =VLOOKUP(E57,CYK,2,TRUE) -> Rate Yourself (1 = None to 5 = Full Knowledge) | H57: ALL | I57: Yes
D58: How to ensure that the Health and Safety of everyone is properly managed? | E58: 0 | F58: =VLOOKUP(E58,CYK,2,TRUE) -> Rate Yourself (1 = None to 5 = Full Knowledge) | H58: ALL | I58: Yes
B59: · Sources of income for local Scouting. | D59: My contribution to the local Executive Committee in relation to financial measures? | E59: 0 | F59: =VLOOKUP(E59,CYK,2,TRUE) -> Rate Yourself (1 = None to 5 = Full Knowledge) | H59: Trustee | I59: No
B60: · Working with the local Executive Committee and others to ensure that local Scouting has to support its work with youth members. | D60: My contribution to the local Executive Committee in relation to ensuring an adequate income? | E60: 0 | F60: =VLOOKUP(E60,CYK,2,TRUE) -> Rate Yourself (1 = None to 5 = Full Knowledge) | H60: Trustee | I60: No
D61: My contribution to the local Executive Committee in relationto physical resources? | E61: 0 | F61: =VLOOKUP(E61,CYK,2,TRUE) -> Rate Yourself (1 = None to 5 = Full Knowledge) | H61: Trustee | I61: No
B62: Fundraising and the appropriate management of funds collected (policies, statement of purpose, etc.) | D62: My contribution to the local Executive Committee and otherteams in relation to minimising the impact on the environment? | E62: 0 | F62: =VLOOKUP(E62,CYK,2,TRUE) -> Rate Yourself (1 = None to 5 = Full Knowledge) | H62: Trustee | I62: No
A64: Safety | D64: My duties and responsibilities for the safe operation of local Scouting? | E64: 0 | F64: =VLOOKUP(E64,CYK,2,TRUE) -> Rate Yourself (1 = None to 5 = Full Knowledge) | H64: ALL | I64: Yes
B65: Duties and responsibilities related to the safe operation of Scouting | D65: The emergency and reporting procedures to follow in the event of an accident or incident? | E65: 0 | F65: =VLOOKUP(E65,CYK,2,TRUE) -> Rate Yourself (1 = None to 5 = Full Knowledge) | H65: ALL | I65: Yes
B66: Emergency and reporting procedures | D66: The activities that require a specific activity permit and where to find information on the requirements? | E66: 0 | F66: =VLOOKUP(E66,CYK,2,TRUE) -> Rate Yourself (1 = None to 5 = Full Knowledge) | H66: ALL | I66: Yes
B67: Activity permits and where to find detailed information | D67: How to conduct a risk assessment for a Scouting activity or event? | E67: 0 | F67: =VLOOKUP(E67,CYK,2,TRUE) -> Rate Yourself (1 = None to 5 = Full Knowledge) | H67: ALL | I67: Yes
B68: Risk assessments why they are important, and how to complete them | D68: How to develop a culture of safety within my role? | E68: 0 | F68: =VLOOKUP(E68,CYK,2,TRUE) -> Rate Yourself (1 = None to 5 = Full Knowledge) | H68: ALL | I68: Yes
B69: Developing a culture of safety | D69: My role in approving and/or supporting activities that do not require formal activity permits? | E69: 0 | F69: =VLOOKUP(E69,CYK,2,TRUE) -> Rate Yourself (1 = None to 5 = Full Knowledge) | H69: Activity | I69: No
B70: Essential information on activities such as InTouch, medical details, age restrictions and other safety welfare requirements | D70: The InTouch system, medical detail requirements, age restrictions and welfare requirements of Scouting activities? | E70: 0 | F70: =VLOOKUP(E70,CYK,2,TRUE) -> Rate Yourself (1 = None to 5 = Full Knowledge) | H70: Activity | I70: Yes
D71: Where to access POR and other factsheets to provide guidance for Scouting activities? | E71: 0 | F71: =VLOOKUP(E71,CYK,2,TRUE) -> Rate Yourself (1 = None to 5 = Full Knowledge) | H71: Activity | I71: Yes
B72: Insurance information and the requirements for additional insurance | D72: The insurance requirements of the Scout Association? | E72: 0 | F72: =VLOOKUP(E72,CYK,2,TRUE) -> Rate Yourself (1 = None to 5 = Full Knowledge) | H72: ALL | I72: Yes
B73: Night’s away permits and operations | D73: The times when additional insurance is required to support specific events and activities? | E73: 0 | F73: =VLOOKUP(E73,CYK,2,TRUE) -> Rate Yourself (1 = None to 5 = Full Knowledge) | H73: ALL | I73: Yes
B74: Role and responsibilities of the “leader in charge” | D74: The requirements and procedures necessary for a nights away permit and the role I play? | E74: 0 | F74: =VLOOKUP(E74,CYK,2,TRUE) -> Rate Yourself (1 = None to 5 = Full Knowledge) | H74: Activity | I74: Yes
D75: The role and responsibilities of the “leader in charge” | E75: 0 | F75: =VLOOKUP(E75,CYK,2,TRUE) -> Rate Yourself (1 = None to 5 = Full Knowledge) | H75: Activity | I75: Yes

Sheet Learning
A1: MANAGER AND SUPPORTER WOODBADGE | D1: Learning Plan | H1: Independent Learning | V1: Skills Courses
H2: Managing Your Time and Personal Skills | I2: Leading Local Scouting | J2: Planning for Growth | K2: Finding, Appointing and Welcoming Volunteers | L2: Safeguarding | M2: Dealing With Difficult Situations | N2: Keeping, Developing and Managing Volunteers | O2: Building Effective Teams | P2: Project Management | Q2: Decision Making | R2: Enabling Change | S2: Financial and Physical Resources | T2: Executive Committees and Being a Trustee | U2: Safety for Managers | V2: Meeting the Challenges | W2: Achieving Growth | X2: Skills of Management
A4: =IF('Self Assessment'!C6="","",'Self Assessment'!C6) | D4: Role Title: | E4: =IF('Self Assessment'!C8="","",'Self Assessment'!C8)
D5: Started: | E5: =IF('Self Assessment'!C9="","",'Self Assessment'!C9)
G7: (Percentage is an estimate of current knowlegde - high is good)
A9: Area | B9: Do I know… | C9: Score | D9: Learning Suggestion | E9: Roles | F9: Re-Val | G9: Notes | H9: =1-COUNTIFS($C$10:$C$72,"<4",H$10:H$72,"=ü")/COUNTIF(H$10:H$72,"=ü") -> 1 | I9: =1-COUNTIFS($C$10:$C$72,"<4",I$10:I$72,"=ü")/COUNTIF(I$10:I$72,"=ü") -> 1 | J9: =1-COUNTIFS($C$10:$C$72,"<4",J$10:J$72,"=ü")/COUNTIF(J$10:J$72,"=ü") -> 1 | K9: =1-COUNTIFS($C$10:$C$72,"<4",K$10:K$72,"=ü")/COUNTIF(K$10:K$72,"=ü") -> 1 | L9: =1-COUNTIFS($C$10:$C$72,"<4",L$10:L$72,"=ü")/COUNTIF(L$10:L$72,"=ü") -> 1 | M9: =1-COUNTIFS($C$10:$C$72,"<4",M$10:M$72,"=ü")/COUNTIF(M$10:M$72,"=ü") -> 1 | N9: =1-COUNTIFS($C$10:$C$72,"<4",N$10:N$72,"=ü")/COUNTIF(N$10:N$72,"=ü") -> 1 | O9: =1-COUNTIFS($C$10:$C$72,"<4",O$10:O$72,"=ü")/COUNTIF(O$10:O$72,"=ü") -> 1 | ... X9: =1-COUNTIFS($C$10:$C$72,"<4",X$10:X$72,"=ü")/COUNTIF(X$10:X$72,"=ü") -> 1
A10: Managing Your Time and Personal Skills | B10: What my role entails and what my goals and targets are? | C10: =IF('Self Assessment'!E13=0,"",'Self Assessment'!E13) | D10: ='Self Assessment'!F13 -> Rate Yourself (1 = None to 5 = Full Knowledge) | E10: ALL | F10: Yes | H10: ü | X10: ü
B11: What The Scout Association’s strategic vision is? | C11: =IF('Self Assessment'!E14=0,"",'Self Assessment'!E14) | D11: ='Self Assessment'!F14 -> Rate Yourself (1 = None to 5 = Full Knowledge) | E11: ALL | F11: Yes | H11: ü | X11: ü
B12: What the future requirements of my role are? | C12: =IF('Self Assessment'!E15=0,"",'Self Assessment'!E15) | D12: ='Self Assessment'!F15 -> Rate Yourself (1 = None to 5 = Full Knowledge) | E12: ALL | F12: Yes | H12: ü | X12: ü
B13: What skills and knowledge I need to develop are? | C13: =IF('Self Assessment'!E16=0,"",'Self Assessment'!E16) | D13: ='Self Assessment'!F16 -> Rate Yourself (1 = None to 5 = Full Knowledge) | E13: ALL | F13: Yes | H13: ü | X13: ü
B14: How to manage time effectively? – particularly in relation to keeping a balance across work, life and Scouting | C14: =IF('Self Assessment'!E17=0,"",'Self Assessment'!E17) | D14: ='Self Assessment'!F17 -> Rate Yourself (1 = None to 5 = Full Knowledge) | E14: ALL | F14: Yes | H14: ü | X14: ü
B15: How to use feedback from others to help me improve the way I carry out my role? | C15: =IF('Self Assessment'!E18=0,"",'Self Assessment'!E18) | D15: ='Self Assessment'!F18 -> Rate Yourself (1 = None to 5 = Full Knowledge) | E15: ALL | F15: Yes | H15: ü | X15: ü
B16: Where to go for up to date information of developments in Scouting? | C16: =IF('Self Assessment'!E19=0,"",'Self Assessment'!E19) | D16: ='Self Assessment'!F19 -> Rate Yourself (1 = None to 5 = Full Knowledge) | E16: ALL | F16: Yes | H16: ü | X16: ü
A17: Providing Direction | B17: How to create a vision? | C17: =IF('Self Assessment'!E20=0,"",'Self Assessment'!E20) | D17: ='Self Assessment'!F20 -> Rate Yourself (1 = None to 5 = Full Knowledge) | E17: ALL | F17: Yes | I17: ü | J17: ü | W17: ü | X17: ü
B18: How to create a plan to deliver a vision? | C18: =IF('Self Assessment'!E21=0,"",'Self Assessment'!E21) | D18: ='Self Assessment'!F21 -> Rate Yourself (1 = None to 5 = Full Knowledge) | E18: ALL | F18: Yes | I18: ü | J18: ü | W18: ü | X18: ü
B19: What SMART targets are and how to set them? | C19: =IF('Self Assessment'!E22=0,"",'Self Assessment'!E22) | D19: ='Self Assessment'!F22 -> Rate Yourself (1 = None to 5 = Full Knowledge) | E19: ALL | F19: Yes | I19: ü | J19: ü | W19: ü | X19: ü
B20: Who needs consulting before setting a plan? | C20: =IF('Self Assessment'!E23=0,"",'Self Assessment'!E23) | D20: ='Self Assessment'!F23 -> Rate Yourself (1 = None to 5 = Full Knowledge) | E20: ALL | F20: Yes | I20: ü | J20: ü | W20: ü | X20: ü
B21: How to communicate a plan effectively? | C21: =IF('Self Assessment'!E24=0,"",'Self Assessment'!E24) | D21: ='Self Assessment'!F24 -> Rate Yourself (1 = None to 5 = Full Knowledge) | E21: ALL | F21: Yes | I21: ü | J21: ü | W21: ü | X21: ü
B22: How to evaluate a plan? | C22: =IF('Self Assessment'!E25=0,"",'Self Assessment'!E25) | D22: ='Self Assessment'!F25 -> Rate Yourself (1 = None to 5 = Full Knowledge) | E22: ALL | F22: Yes | I22: ü | J22: ü | W22: ü | X22: ü
B23: How to motivate and inspire adult volunteers? | C23: =IF('Self Assessment'!E26=0,"",'Self Assessment'!E26) | D23: ='Self Assessment'!F26 -> Rate Yourself (1 = None to 5 = Full Knowledge) | E23: ALL | F23: Yes | I23: ü | J23: ü | W23: ü | X23: ü
B24: Where to locate the policies and rules of The Scout Association? | C24: =IF('Self Assessment'!E27=0,"",'Self Assessment'!E27) | D24: ='Self Assessment'!F27 -> Rate Yourself (1 = None to 5 = Full Knowledge) | E24: ALL | F24: Yes | I24: ü | J24: ü | W24: ü | X24: ü
B25: How to ensure everyone follows the policies and rules of The Scout Association? | C25: =IF('Self Assessment'!E28=0,"",'Self Assessment'!E28) | D25: ='Self Assessment'!F28 -> Rate Yourself (1 = None to 5 = Full Knowledge) | E25: ALL | F25: Yes | I25: ü | J25: ü | W25: ü | X25: ü
B26: How to grow the number of young people participating in Scouting? | C26: =IF('Self Assessment'!E29=0,"",'Self Assessment'!E29) | D26: ='Self Assessment'!F29 -> Rate Yourself (1 = None to 5 = Full Knowledge) | E26: ALL | F26: Yes | I26: ü | J26: ü | W26: ü | X26: ü
A27: Achieving Results | B27: How to improve the performance of all elements of local Scouting? | C27: =IF('Self Assessment'!E30=0,"",'Self Assessment'!E30) | D27: ='Self Assessment'!F30 -> Rate Yourself (1 = None to 5 = Full Knowledge) | E27: ALL | F27: Yes | O27: ü | P27: ü | Q27: ü | V27: ü | W27: ü | X27: ü
B28: How to write, manage the implementation of, and judge the effectiveness of project and/or development plans? | C28: =IF('Self Assessment'!E31=0,"",'Self Assessment'!E31) | D28: ='Self Assessment'!F31 -> Rate Yourself (1 = None to 5 = Full Knowledge) | E28: ALL | F28: Yes | O28: ü | P28: ü | Q28: ü | V28: ü | W28: ü | X28: ü
B29: The key communication channels to use to effectively promote local Scouting? | C29: =IF('Self Assessment'!E32=0,"",'Self Assessment'!E32) | D29: ='Self Assessment'!F32 -> Rate Yourself (1 = None to 5 = Full Knowledge) | E29: ALL | F29: Yes | O29: ü | P29: ü | Q29: ü | V29: ü | W29: ü | X29: ü
B30: My role in ensuring all the initiatives in local Scouting are managed appropriately? | C30: =IF('Self Assessment'!E33=0,"",'Self Assessment'!E33) | D30: ='Self Assessment'!F33 -> Rate Yourself (1 = None to 5 = Full Knowledge) | E30: Line M | F30: Yes | O30: ü | P30: ü | Q30: ü | V30: ü | W30: ü | X30: ü
B31: How to build a profile of the young people in the local area? | C31: =IF('Self Assessment'!E34=0,"",'Self Assessment'!E34) | D31: ='Self Assessment'!F34 -> Rate Yourself (1 = None to 5 = Full Knowledge) | E31: YP | F31: No | O31: ü | P31: ü | Q31: ü | V31: ü | W31: ü | X31: ü
B32: How to use a young people profile to effectively promote Scouting? | C32: =IF('Self Assessment'!E35=0,"",'Self Assessment'!E35) | D32: ='Self Assessment'!F35 -> Rate Yourself (1 = None to 5 = Full Knowledge) | E32: YP | F32: No | O32: ü | P32: ü | Q32: ü | V32: ü | W32: ü | X32: ü
B33: How to monitor and review the progress people are making against their targets and development plans? | C33: =IF('Self Assessment'!E36=0,"",'Self Assessment'!E36) | D33: ='Self Assessment'!F36 -> Rate Yourself (1 = None to 5 = Full Knowledge) | E33: ALL | F33: Yes | O33: ü | P33: ü | Q33: ü | V33: ü | W33: ü | X33: ü
A35: Working With People | B35: Why it is important to build relationship with external organisations? | C35: =IF('Self Assessment'!E38=0,"",'Self Assessment'!E38) | D35: ='Self Assessment'!F38 -> Rate Yourself (1 = None to 5 = Full Knowledge) | E35: ALL | F35: Yes | K35: ü | L35: ü | M35: ü | N35: ü | V35: ü | W35: ü | X35: ü
B36: How to build a co-operative culture of working? | C36: =IF('Self Assessment'!E39=0,"",'Self Assessment'!E39) | D36: ='Self Assessment'!F39 -> Rate Yourself (1 = None to 5 = Full Knowledge) | E36: ALL | F36: Yes | K36: ü | L36: ü | M36: ü | N36: ü | V36: ü | W36: ü | X36: ü
B37: My preferred style of leadership and how this impacts on others I work with? | C37: =IF('Self Assessment'!E40=0,"",'Self Assessment'!E40) | D37: ='Self Assessment'!F40 -> Rate Yourself (1 = None to 5 = Full Knowledge) | E37: ALL | F37: Yes | K37: ü | L37: ü | M37: ü | N37: ü | V37: ü | W37: ü | X37: ü
B38: The principles of active listening? | C38: =IF('Self Assessment'!E41=0,"",'Self Assessment'!E41) | D38: ='Self Assessment'!F41 -> Rate Yourself (1 = None to 5 = Full Knowledge) | E38: ALL | F38: Yes | K38: ü | L38: ü | M38: ü | N38: ü | V38: ü | W38: ü | X38: ü
B39: How to minimise the likelihood of conflict, disputes and complaints and how to handle them should they occur? | C39: =IF('Self Assessment'!E42=0,"",'Self Assessment'!E42) | D39: ='Self Assessment'!F42 -> Rate Yourself (1 = None to 5 = Full Knowledge) | E39: ALL | F39: Yes | K39: ü | L39: ü | M39: ü | N39: ü | V39: ü | W39: ü | X39: ü
B40: How to recruit adults into new Scouting roles? | C40: =IF('Self Assessment'!E43=0,"",'Self Assessment'!E43) | D40: ='Self Assessment'!F43 -> Rate Yourself (1 = None to 5 = Full Knowledge) | E40: Line M | F40: Yes | K40: ü | L40: ü | M40: ü | N40: ü | V40: ü | W40: ü | X40: ü
B41: How to effectively delegate tasks? | C41: =IF('Self Assessment'!E44=0,"",'Self Assessment'!E44) | D41: ='Self Assessment'!F44 -> Rate Yourself (1 = None to 5 = Full Knowledge) | E41: Line M | F41: Yes | K41: ü | L41: ü | M41: ü | N41: ü | V41: ü | W41: ü | X41: ü
B42: How to develop adult’s skills and knowledge? | C42: =IF('Self Assessment'!E45=0,"",'Self Assessment'!E45) | D42: ='Self Assessment'!F45 -> Rate Yourself (1 = None to 5 = Full Knowledge) | E42: Line M | F42: Yes | K42: ü | L42: ü | M42: ü | N42: ü | V42: ü | W42: ü | X42: ü
B43: My role in supporting others through the Adult Training Scheme? | C43: =IF('Self Assessment'!E46=0,"",'Self Assessment'!E46) | D43: ='Self Assessment'!F46 -> Rate Yourself (1 = None to 5 = Full Knowledge) | E43: Line M | F43: No | K43: ü | L43: ü | M43: ü | N43: ü | V43: ü | W43: ü | X43: ü
B44: My role in relation to The Scout Associations safeguarding policy? | C44: =IF('Self Assessment'!E47=0,"",'Self Assessment'!E47) | D44: ='Self Assessment'!F47 -> Rate Yourself (1 = None to 5 = Full Knowledge) | E44: ALL | F44: Yes | K44: ü | L44: ü | M44: ü | N44: ü | V44: ü | W44: ü | X44: ü
B45: How to conduct an effective review of an adult you line manage? | C45: =IF('Self Assessment'!E48=0,"",'Self Assessment'!E48) | D45: ='Self Assessment'!F48 -> Rate Yourself (1 = None to 5 = Full Knowledge) | E45: Line M | F45: No | K45: ü | L45: ü | M45: ü | N45: ü | V45: ü | W45: ü | X45: ü
B46: The benefits of an effective induction? | C46: =IF('Self Assessment'!E49=0,"",'Self Assessment'!E49) | D46: ='Self Assessment'!F49 -> Rate Yourself (1 = None to 5 = Full Knowledge) | E46: Line M | F46: No | K46: ü | L46: ü | M46: ü | N46: ü | V46: ü | W46: ü | X46: ü
A47: Enabling Change | B47: How to support and encourage adults to think of new and creative ways to improve local Scouting? | C47: =IF('Self Assessment'!E50=0,"",'Self Assessment'!E50) | D47: ='Self Assessment'!F50 -> Rate Yourself (1 = None to 5 = Full Knowledge) | E47: ALL | F47: Yes | R47: ü | V47: ü
B48: How to effectively manage change? | C48: =IF('Self Assessment'!E51=0,"",'Self Assessment'!E51) | D48: ='Self Assessment'!F51 -> Rate Yourself (1 = None to 5 = Full Knowledge) | E48: ALL | F48: Yes | R48: ü | V48: ü
B49: Why people are resistant to change and how to lead them successfully through change? | C49: =IF('Self Assessment'!E52=0,"",'Self Assessment'!E52) | D49: ='Self Assessment'!F52 -> Rate Yourself (1 = None to 5 = Full Knowledge) | E49: ALL | F49: Yes | R49: ü | V49: ü
A51: Using Resources | B51: Which decisions I can make myself and which decisions I need to consult others before taking action? | C51: =IF('Self Assessment'!E54=0,"",'Self Assessment'!E54) | D51: ='Self Assessment'!F54 -> Rate Yourself (1 = None to 5 = Full Knowledge) | E51: ALL | F51: Yes | S51: ü | T51: ü | V51: ü | X51: ü
B52: How best to ensure that key knowledge is captured, stored and used to improve local Scouting? | C52: =IF('Self Assessment'!E55=0,"",'Self Assessment'!E55) | D52: ='Self Assessment'!F55 -> Rate Yourself (1 = None to 5 = Full Knowledge) | E52: ALL | F52: Yes | S52: ü | T52: ü | V52: ü | X52: ü
B53: How to ensure that all adults in local Scouting have the right information? | C53: =IF('Self Assessment'!E56=0,"",'Self Assessment'!E56) | D53: ='Self Assessment'!F56 -> Rate Yourself (1 = None to 5 = Full Knowledge) | E53: ALL | F53: Yes | S53: ü | T53: ü | V53: ü | X53: ü
B54: Which resources am I responsible for? | C54: =IF('Self Assessment'!E57=0,"",'Self Assessment'!E57) | D54: ='Self Assessment'!F57 -> Rate Yourself (1 = None to 5 = Full Knowledge) | E54: ALL | F54: Yes | S54: ü | T54: ü | V54: ü | X54: ü
B55: How to ensure that the Health and Safety of everyone is properly managed? | C55: =IF('Self Assessment'!E58=0,"",'Self Assessment'!E58) | D55: ='Self Assessment'!F58 -> Rate Yourself (1 = None to 5 = Full Knowledge) | E55: ALL | F55: Yes | S55: ü | T55: ü | V55: ü | X55: ü
B56: My contribution to the local Executive Committee in relation to financial measures? | C56: =IF('Self Assessment'!E59=0,"",'Self Assessment'!E59) | D56: ='Self Assessment'!F59 -> Rate Yourself (1 = None to 5 = Full Knowledge) | E56: Trustee | F56: No | S56: ü | T56: ü | V56: ü | X56: ü
B57: My contribution to the local Executive Committee in relation to ensuring an adequate income? | C57: =IF('Self Assessment'!E60=0,"",'Self Assessment'!E60) | D57: ='Self Assessment'!F60 -> Rate Yourself (1 = None to 5 = Full Knowledge) | E57: Trustee | F57: No | S57: ü | T57: ü | V57: ü | X57: ü
B58: My contribution to the local Executive Committee in relationto physical resources? | C58: =IF('Self Assessment'!E61=0,"",'Self Assessment'!E61) | D58: ='Self Assessment'!F61 -> Rate Yourself (1 = None to 5 = Full Knowledge) | E58: Trustee | F58: No | S58: ü | T58: ü | V58: ü | X58: ü
B59: My contribution to the local Executive Committee and otherteams in relation to minimising the impact on the environment? | C59: =IF('Self Assessment'!E62=0,"",'Self Assessment'!E62) | D59: ='Self Assessment'!F62 -> Rate Yourself (1 = None to 5 = Full Knowledge) | E59: Trustee | F59: No | S59: ü | T59: ü | V59: ü | X59: ü
A61: Safety | B61: My duties and responsibilities for the safe operation of local Scouting? | C61: =IF('Self Assessment'!E64=0,"",'Self Assessment'!E64) | D61: ='Self Assessment'!F64 -> Rate Yourself (1 = None to 5 = Full Knowledge) | E61: ALL | F61: Yes | U61: ü
B62: The emergency and reporting procedures to follow in the event of an accident or incident? | C62: =IF('Self Assessment'!E65=0,"",'Self Assessment'!E65) | D62: ='Self Assessment'!F65 -> Rate Yourself (1 = None to 5 = Full Knowledge) | E62: ALL | F62: Yes | U62: ü
B63: The activities that require a specific activity permit and where to find information on the requirements? | C63: =IF('Self Assessment'!E66=0,"",'Self Assessment'!E66) | D63: ='Self Assessment'!F66 -> Rate Yourself (1 = None to 5 = Full Knowledge) | E63: ALL | F63: Yes | U63: ü
B64: How to conduct a risk assessment for a Scouting activity or event? | C64: =IF('Self Assessment'!E67=0,"",'Self Assessment'!E67) | D64: ='Self Assessment'!F67 -> Rate Yourself (1 = None to 5 = Full Knowledge) | E64: ALL | F64: Yes | U64: ü
B65: How to develop a culture of safety within my role? | C65: =IF('Self Assessment'!E68=0,"",'Self Assessment'!E68) | D65: ='Self Assessment'!F68 -> Rate Yourself (1 = None to 5 = Full Knowledge) | E65: ALL | F65: Yes | U65: ü
B66: My role in approving and/or supporting activities that do not require formal activity permits? | C66: =IF('Self Assessment'!E69=0,"",'Self Assessment'!E69) | D66: ='Self Assessment'!F69 -> Rate Yourself (1 = None to 5 = Full Knowledge) | E66: Activity | F66: No | U66: ü
B67: The InTouch system, medical detail requirements, age restrictions and welfare requirements of Scouting activities? | C67: =IF('Self Assessment'!E70=0,"",'Self Assessment'!E70) | D67: ='Self Assessment'!F70 -> Rate Yourself (1 = None to 5 = Full Knowledge) | E67: Activity | F67: Yes | U67: ü
B68: Where to access POR and other factsheets to provide guidance for Scouting activities? | C68: =IF('Self Assessment'!E71=0,"",'Self Assessment'!E71) | D68: ='Self Assessment'!F71 -> Rate Yourself (1 = None to 5 = Full Knowledge) | E68: Activity | F68: Yes | U68: ü
B69: The insurance requirements of the Scout Association? | C69: =IF('Self Assessment'!E72=0,"",'Self Assessment'!E72) | D69: ='Self Assessment'!F72 -> Rate Yourself (1 = None to 5 = Full Knowledge) | E69: ALL | F69: Yes | U69: ü
B70: The times when additional insurance is required to support specific events and activities? | C70: =IF('Self Assessment'!E73=0,"",'Self Assessment'!E73) | D70: ='Self Assessment'!F73 -> Rate Yourself (1 = None to 5 = Full Knowledge) | E70: ALL | F70: Yes | U70: ü
B71: The requirements and procedures necessary for a nights away permit and the role I play? | C71: =IF('Self Assessment'!E74=0,"",'Self Assessment'!E74) | D71: ='Self Assessment'!F74 -> Rate Yourself (1 = None to 5 = Full Knowledge) | E71: Activity | F71: Yes | U71: ü
B72: The role and responsibilities of the “leader in charge” | C72: =IF('Self Assessment'!E75=0,"",'Self Assessment'!E75) | D72: ='Self Assessment'!F75 -> Rate Yourself (1 = None to 5 = Full Knowledge) | E72: Activity | F72: Yes | U72: ü
G74: Date Planned
G75: Date Completed

Sheet Validation
A1: MANAGER AND SUPPORTER WOODBADGE | D1: Validation Record
A4: =IF('Self Assessment'!C6="","",'Self Assessment'!C6) | C4: Role: | E4: =IF('Self Assessment'!C8="","",'Self Assessment'!C8)
C5: Started: | E5: =IF('Self Assessment'!C9="","",'Self Assessment'!C9)
C7: ='Self Assessment'!C4&"TA(M&S)" -> TA(M&S)
E9: By M&S | G9: BY TA(M&S)
A10: Area | B10: As TA(M&S) I confirm the above knows… | C10: Roles | D10: Re-Val | E10: Initial | F10: New | G10: Met? | H10: Date | I10: Notes
A11: Managing Your Time and Personal Skills | B11: What their role entails and what thier goals and targets are? | C11: ALL | D11: Yes | E11: ='Self Assessment'!E13 -> 0 | F11: 4 | G11: Yes
B12: What The Scout Association’s strategic vision is? | C12: ALL | D12: Yes | E12: ='Self Assessment'!E14 -> 0 | F12: 4 | G12: Yes
B13: What the future requirements of thier role are? | C13: ALL | D13: Yes | E13: ='Self Assessment'!E15 -> 0 | F13: 4 | G13: Yes
B14: What skills and knowledge they need to develop are? | C14: ALL | D14: Yes | E14: ='Self Assessment'!E16 -> 0 | F14: 4 | G14: Yes
B15: How to manage time effectively? – particularly in relation to keeping a balance across work, life and Scouting | C15: ALL | D15: Yes | E15: ='Self Assessment'!E17 -> 0 | F15: 4 | G15: Yes
B16: How to use feedback from others to help them improve the way they carry out thier role? | C16: ALL | D16: Yes | E16: ='Self Assessment'!E18 -> 0 | F16: 4 | G16: Yes
B17: Where to go for up to date information of developments in Scouting? | C17: ALL | D17: Yes | E17: ='Self Assessment'!E19 -> 0 | F17: 4 | G17: Yes
A18: Providing Direction | B18: How to create a vision? | C18: ALL | D18: Yes | E18: ='Self Assessment'!E20 -> 0 | F18: 4 | G18: Yes
B19: How to create a plan to deliver a vision? | C19: ALL | D19: Yes | E19: ='Self Assessment'!E21 -> 0 | F19: 4 | G19: Yes
B20: What SMART targets are and how to set them? | C20: ALL | D20: Yes | E20: ='Self Assessment'!E22 -> 0 | F20: 4 | G20: Yes
B21: Who needs consulting before setting a plan? | C21: ALL | D21: Yes | E21: ='Self Assessment'!E23 -> 0 | F21: 4 | G21: Yes
B22: How to communicate a plan effectively? | C22: ALL | D22: Yes | E22: ='Self Assessment'!E24 -> 0 | F22: 4 | G22: Yes
B23: How to evaluate a plan? | C23: ALL | D23: Yes | E23: ='Self Assessment'!E25 -> 0 | F23: 4 | G23: Yes
B24: How to motivate and inspire adult volunteers? | C24: ALL | D24: Yes | E24: ='Self Assessment'!E26 -> 0 | F24: 4 | G24: Yes
B25: Where to locate the policies and rules of The Scout Association? | C25: ALL | D25: Yes | E25: ='Self Assessment'!E27 -> 0 | F25: 4 | G25: Yes
B26: How to ensure everyone follows the policies and rules of The Scout Association? | C26: ALL | D26: Yes | E26: ='Self Assessment'!E28 -> 0 | F26: 4 | G26: Yes
B27: How to grow the number of young people participating in Scouting? | C27: ALL | D27: Yes | E27: ='Self Assessment'!E29 -> 0 | F27: 4 | G27: Yes
A28: Achieving Results | B28: How to improve the performance of all elements of local Scouting? | C28: ALL | D28: Yes | E28: ='Self Assessment'!E30 -> 0 | F28: 4 | G28: Yes
B29: How to write, manage the implementation of, and judge the effectiveness of project and/or development plans? | C29: ALL | D29: Yes | E29: ='Self Assessment'!E31 -> 0 | F29: 4 | G29: Yes
B30: The key communication channels to use to effectively promote local Scouting? | C30: ALL | D30: Yes | E30: ='Self Assessment'!E32 -> 0 | F30: 4 | G30: Yes
B31: Their role in ensuring all the initiatives in local Scouting are managed appropriately? | C31: Line M | D31: Yes | E31: ='Self Assessment'!E33 -> 0 | F31: 4 | G31: Yes
B32: How to build a profile of the young people in the local area? | C32: YP | D32: No | E32: ='Self Assessment'!E34 -> 0 | F32: 4 | G32: Yes
B33: How to use a young people profile to effectively promote Scouting? | C33: YP | D33: No | E33: ='Self Assessment'!E35 -> 0 | F33: 4 | G33: Yes
B34: How to monitor and review the progress people are making against their targets and development plans? | C34: ALL | D34: Yes | E34: ='Self Assessment'!E36 -> 0 | F34: 4 | G34: Yes
A36: Working With People | B36: Why it is important to build relationship with external organisations? | C36: ALL | D36: Yes | E36: ='Self Assessment'!E38 -> 0 | F36: 4 | G36: Yes
B37: How to build a co-operative culture of working? | C37: ALL | D37: Yes | E37: ='Self Assessment'!E39 -> 0 | F37: 4 | G37: Yes
B38: Their preferred style of leadership and how this impacts on others I work with? | C38: ALL | D38: Yes | E38: ='Self Assessment'!E40 -> 0 | F38: 4 | G38: Yes
B39: The principles of active listening? | C39: ALL | D39: Yes | E39: ='Self Assessment'!E41 -> 0 | F39: 4 | G39: Yes
B40: How to minimise the likelihood of conflict, disputes and complaints and how to handle them should they occur? | C40: ALL | D40: Yes | E40: ='Self Assessment'!E42 -> 0 | F40: 4 | G40: Yes
B41: How to recruit adults into new Scouting roles? | C41: Line M | D41: Yes | E41: ='Self Assessment'!E43 -> 0 | F41: 4 | G41: Yes
B42: How to effectively delegate tasks? | C42: Line M | D42: Yes | E42: ='Self Assessment'!E44 -> 0 | F42: 4 | G42: Yes
B43: How to develop adult’s skills and knowledge? | C43: Line M | D43: Yes | E43: ='Self Assessment'!E45 -> 0 | F43: 4 | G43: Yes
B44: Their role in supporting others through the Adult Training Scheme? | C44: Line M | D44: No | E44: ='Self Assessment'!E46 -> 0 | F44: 4 | G44: Yes
B45: Their role in relation to The Scout Associations safeguarding policy? | C45: ALL | D45: Yes | E45: ='Self Assessment'!E47 -> 0 | F45: 4 | G45: Yes
B46: How to conduct an effective review of an adult you line manage? | C46: Line M | D46: No | E46: ='Self Assessment'!E48 -> 0 | F46: 4 | G46: Yes
B47: The benefits of an effective induction? | C47: Line M | D47: No | E47: ='Self Assessment'!E49 -> 0 | F47: 4 | G47: Yes
A48: Enabling Change | B48: How to support and encourage adults to think of new and creative ways to improve local Scouting? | C48: ALL | D48: Yes | E48: ='Self Assessment'!E50 -> 0 | F48: 4 | G48: Yes
B49: How to effectively manage change? | C49: ALL | D49: Yes | E49: ='Self Assessment'!E51 -> 0 | F49: 4 | G49: Yes
B50: Why people are resistant to change and how to lead them successfully through change? | C50: ALL | D50: Yes | E50: ='Self Assessment'!E52 -> 0 | F50: 4 | G50: Yes
A52: Using Resources | B52: Which decisions they can make themselves and which decisions they need to consult others before taking action? | C52: ALL | D52: Yes | E52: ='Self Assessment'!E54 -> 0 | F52: 4 | G52: Yes
B53: How best to ensure that key knowledge is captured, stored and used to improve local Scouting? | C53: ALL | D53: Yes | E53: ='Self Assessment'!E55 -> 0 | F53: 4 | G53: Yes
B54: How to ensure that all adults in local Scouting have the right information? | C54: ALL | D54: Yes | E54: ='Self Assessment'!E56 -> 0 | F54: 4 | G54: Yes
B55: Which resources am I responsible for? | C55: ALL | D55: Yes | E55: ='Self Assessment'!E57 -> 0 | F55: 4 | G55: Yes
B56: How to ensure that the Health and Safety of everyone is properly managed? | C56: ALL | D56: Yes | E56: ='Self Assessment'!E58 -> 0 | F56: 4 | G56: Yes
B57: Thier contribution to the local Executive Committee in relation to financial measures? | C57: Trustee | D57: No | E57: ='Self Assessment'!E59 -> 0 | F57: 4 | G57: Yes
B58: Thier contribution to the local Executive Committee in relation to ensuring an adequate income? | C58: Trustee | D58: No | E58: ='Self Assessment'!E60 -> 0 | F58: 4 | G58: Yes
B59: Thier contribution to the local Executive Committee in relationto physical resources? | C59: Trustee | D59: No | E59: ='Self Assessment'!E61 -> 0 | F59: 4 | G59: Yes
B60: Thier contribution to the local Executive Committee and otherteams in relation to minimising the impact on the environment? | C60: Trustee | D60: No | E60: ='Self Assessment'!E62 -> 0 | F60: 4 | G60: Yes
A62: Safety | B62: Thier duties and responsibilities for the safe operation of local Scouting? | C62: ALL | D62: Yes | E62: ='Self Assessment'!E64 -> 0 | F62: 4 | G62: Yes
B63: The emergency and reporting procedures to follow in the event of an accident or incident? | C63: ALL | D63: Yes | E63: ='Self Assessment'!E65 -> 0 | F63: 4 | G63: Yes
B64: The activities that require a specific activity permit and where to find information on the requirements? | C64: ALL | D64: Yes | E64: ='Self Assessment'!E66 -> 0 | F64: 4 | G64: Yes
B65: How to conduct a risk assessment for a Scouting activity or event? | C65: ALL | D65: Yes | E65: ='Self Assessment'!E67 -> 0 | F65: 4 | G65: Yes
B66: How to develop a culture of safety within thier role? | C66: ALL | D66: Yes | E66: ='Self Assessment'!E68 -> 0 | F66: 4 | G66: Yes
B67: thier role in approving and/or supporting activities that do not require formal activity permits? | C67: Activity | D67: No | E67: ='Self Assessment'!E69 -> 0 | F67: 4 | G67: Yes
B68: The InTouch system, medical detail requirements, age restrictions and welfare requirements of Scouting activities? | C68: Activity | D68: Yes | E68: ='Self Assessment'!E70 -> 0 | F68: 4 | G68: Yes
B69: Where to access POR and other factsheets to provide guidance for Scouting activities? | C69: Activity | D69: Yes | E69: ='Self Assessment'!E71 -> 0 | F69: 4 | G69: Yes
B70: The insurance requirements of the Scout Association? | C70: ALL | D70: Yes | E70: ='Self Assessment'!E72 -> 0 | F70: 4 | G70: Yes
B71: The times when additional insurance is required to support specific events and activities? | C71: ALL | D71: Yes | E71: ='Self Assessment'!E73 -> 0 | F71: 4 | G71: Yes
B72: The requirements and procedures necessary for a nights away permit and the role I play? | C72: Activity | D72: Yes | E72: ='Self Assessment'!E74 -> 0 | F72: 4 | G72: Yes
B73: The role and responsibilities of the “leader in charge” | C73: Activity | D73: Yes | E73: ='Self Assessment'!E75 -> 0 | F73: 4 | G73: Yes
C75: =IF(COUNTIF($G$11:$G$73,"Yes")=60,"Date M&S Woodbadge Completed:","Unmet validation") -> Date M&S Woodbadge Completed: | I75: Signed:

Sheet Admin
A1: CYK | D1: YesNo | F1: Progress
A2: 0 | B2: Rate Yourself (1 = None to 5 = Full Knowledge) | D2: Yes | F2: N/A
A3: 1 | B3: Complete the Independent Learning & the Skills Courses | D3: Not Yet | F3: Not Started
A4: 2 | B4: Complete the Independent Learning & the Skills Courses | F4: Started
A5: 3 | B5: Complete the Independent Learning to Check Your Knowledge | F5: Complete
A6: 4 | B6: Consider Going Straight to Validation
A7: 5 | B7: Consider Going Straight to Validation
